Workbook
Name Capital: "offset('Loan Amortisation'!$E$2,0,0,countif('Loan Amortisation'!$E$2:$E$721,"">=0.01""),1)"
Name Interest: "offset('Loan Amortisation'!$F$2,0,0,countif('Loan Amortisation'!$F$2:$F$721,"">=0.01""),1)"
Name Term: "offset('Loan Amortisation'!$A$2,0,0,countif('Loan Amortisation'!$B$2:$B$721,"">0.01"",1)"
Name valuevx: [1]Budget!$A$1

Sheet Monthly Budget
A2: This month | B2: July | E2: = information to be typed in/selected
E3: = information calculated
B5: Household members | H5: Expenses | K5: 1 | L5: January | N5: January | O5: 1
A6: INCOME | B6: Member 1 | C6: Member 2 | D6: Member 3 | G6: Months | H6: Expected | I6: Actual | J6: Difference | K6: 2 | L6: February | N6: February | O6: 2
A7: Net salary income | B7: 2000 | C7: 2000 | D7: 2000 | E7: 12 | F7: This Month | G7: =VLOOKUP(VLOOKUP($B$2,$N$5:$O$16,2,FALSE)+E7,$K$5:$L$28,2,FALSE) -> July | H7: =B20 -> 74864 | I7: 14000 | J7: =H7-I7 -> 60864 | K7: 3 | L7: March | N7: March | O7: 3
A8: Bonus | E8: 11 | F8: Previous months | G8: =VLOOKUP(VLOOKUP($B$2,$N$5:$O$16,2,FALSE)+E8,$K$5:$L$28,2,FALSE) -> June | H8: 12500 | I8: 12000 | J8: =H8-I8 -> 500 | K8: 4 | L8: April | N8: April | O8: 4
A9: Overtime | E9: 10 | G9: =VLOOKUP(VLOOKUP($B$2,$N$5:$O$16,2,FALSE)+E9,$K$5:$L$28,2,FALSE) -> May | H9: 12000 | I9: 12500 | J9: =H9-I9 -> -500 | K9: 5 | L9: May | N9: May | O9: 5
A10: Interest Income | E10: 9 | G10: =VLOOKUP(VLOOKUP($B$2,$N$5:$O$16,2,FALSE)+E10,$K$5:$L$28,2,FALSE) -> April | H10: 11500 | I10: 12000 | J10: =H10-I10 -> -500 | K10: 6 | L10: June | N10: June | O10: 6
A11: Dividends | E11: 8 | G11: =VLOOKUP(VLOOKUP($B$2,$N$5:$O$16,2,FALSE)+E11,$K$5:$L$28,2,FALSE) -> March | H11: 11000 | I11: 12000 | J11: =H11-I11 -> -1000 | K11: 7 | L11: July | N11: July | O11: 7
A12: Gifts Received | E12: 7 | G12: =VLOOKUP(VLOOKUP($B$2,$N$5:$O$16,2,FALSE)+E12,$K$5:$L$28,2,FALSE) -> February | H12: 10500 | I12: 11000 | J12: =H12-I12 -> -500 | K12: 8 | L12: August | N12: August | O12: 8
A13: Refunds/Reinbursements | E13: 6 | G13: =VLOOKUP(VLOOKUP($B$2,$N$5:$O$16,2,FALSE)+E13,$K$5:$L$28,2,FALSE) -> January | H13: 10000 | I13: 11200 | J13: =H13-I13 -> -1200 | K13: 9 | L13: September | N13: September | O13: 9
A14: Transfer from Savings | E14: 5 | G14: =VLOOKUP(VLOOKUP($B$2,$N$5:$O$16,2,FALSE)+E14,$K$5:$L$28,2,FALSE) -> December | H14: 9500 | I14: 10150 | J14: =H14-I14 -> -650 | K14: 10 | L14: October | N14: October | O14: 10
A15: Other | E15: 4 | G15: =VLOOKUP(VLOOKUP($B$2,$N$5:$O$16,2,FALSE)+E15,$K$5:$L$28,2,FALSE) -> November | H15: 8500 | I15: 9000 | J15: =H15-I15 -> -500 | K15: 11 | L15: November | N15: November | O15: 11
A16: Other | E16: 3 | G16: =VLOOKUP(VLOOKUP($B$2,$N$5:$O$16,2,FALSE)+E16,$K$5:$L$28,2,FALSE) -> October | H16: 8000 | I16: 8500 | J16: =H16-I16 -> -500 | K16: 12 | L16: December | N16: December | O16: 12
A17: ="Total "&A6 -> Total INCOME | B17: =SUM(B7:B16) -> 2000 | C17: =SUM(C7:C16) -> 2000 | D17: =SUM(D7:D16) -> 2000 | E17: 2 | G17: =VLOOKUP(VLOOKUP($B$2,$N$5:$O$16,2,FALSE)+E17,$K$5:$L$28,2,FALSE) -> September | H17: 7500 | I17: 8000 | J17: =H17-I17 -> -500 | K17: 13 | L17: January
A18: AGGREGATED HOUSEHOLD INCOME | B18: =SUM(B17:D17) -> 6000 | E18: 1 | G18: =VLOOKUP(VLOOKUP($B$2,$N$5:$O$16,2,FALSE)+E18,$K$5:$L$28,2,FALSE) -> August | H18: 6000 | I18: 7600 | J18: =H18-I18 -> -1600 | K18: 14 | L18: February
K19: 15 | L19: March
A20: TOTAL EXPENSES | B20: =B36+B46+B54+B69+B79+B87+B96 -> 74864 | C20: =C36+C46+C54+C69+C79+C87+C96 -> 50705 | D20: =D36+D46+D54+D69+D79+D87+D96 -> 24159 | K20: 16 | L20: April
K21: 17 | L21: May
A22: HOME EXPENSES | B22: Projected/Expected | C22: Actual | D22: Difference | K22: 18 | L22: June
A23: Mortgage/Rent | B23: 14000 | C23: 15000 | D23: =B23-C23 -> -1000 | K23: 19 | L23: July
A24: Electricity | D24: =B24-C24 -> 0 | K24: 20 | L24: August
A25: Groceries | D25: =B25-C25 -> 0 | K25: 21 | L25: September
A26: Sewerage/Trash | D26: =B26-C26 -> 0 | K26: 22 | L26: October
A27: Phone | D27: =B27-C27 -> 0 | K27: 23 | L27: November
A28: DSTV | D28: =B28-C28 -> 0 | K28: 24 | L28: December
A29: Internet | D29: =B29-C29 -> 0
A30: Furnishings/Appliances | D30: =B30-C30 -> 0
A31: Lawn/Garden | D31: =B31-C31 -> 0
A32: Home Supplies | D32: =B32-C32 -> 0
A33: Maintenance | D33: =B33-C33 -> 0
A34: Improvements | D34: =B34-C34 -> 0
A35: Other | D35: =B35-C35 -> 0
A36: ="Total "&A22 -> Total HOME EXPENSES | B36: =SUM(B23:B35) -> 14000 | C36: =SUM(C23:C35) -> 15000 | D36: =B36-C36 -> -1000
A39: TRANSPORTATION | B39: Projected/Expected | C39: Actual | D39: Difference
A40: Vehicle repayments | D40: =B40-C40 -> 0
A41: Petrol | D41: =B41-C41 -> 0
A42: Bus/Taxi/Train Fare | D42: =B42-C42 -> 0
A43: Repairs | D43: =B43-C43 -> 0
A44: Registration/License | D44: =B44-C44 -> 0
...

Sheet Missing a payment
A1: Missing a payment | E1: = information to be typed in
E2: = information calculated
A3: Input
A4: Total Loan Amount | B4: 800000
A5: Annual Nominal rate | B5: 0.12
A6: Term (Months) | B6: 120
A7: Monthly fee | B7: 60
A8: Monthly Premium | B8: =B4/((1-(1+B5/12)^(-B6))/(B5/12))+B7 -> 11537.676
A9: Missed payment | B9: 17
A12: ="Loan outstanding after missing the "&B9&"th payment" -> Loan outstanding after missing the 17th payment
A13: Loan Outstanding | B13: =OFFSET('Loan Amortisation'!B2,'Missing a payment'!B9-1,0) -> 739982.74
A14: Unpaid Interest due | B14: =OFFSET('Loan Amortisation'!F2,'Missing a payment'!B9-1,0) -> 7399.8274
A15: Outstanding term | B15: =B6-B9 -> 103
A16: Total Outstanding loan | B16: =SUM(B13:B14) -> 747382.57
A19: Option 1: Increase the loan term
A20: New outstanding term | B20: =-(LN(1-((B16*(B5/12))/B21)))/(LN(1+(B5/12))) -> 104.86958
A21: Monthly premium | B21: =B8 -> 11537.676
A24: Option 2: Increase your monthly repayment
A25: New monthly premium | B25: =B16/((1-(1+B5/12)^(-B26))/(B5/12))+B7 -> 11716.69
A26: Term | B26: =B6-B9 -> 103

Sheet Loan Amortisation
A1: Term | B1: Outstanding Amount | C1: Monthly Premium | D1: Monthly premium after expenses | E1: Capital Portion | F1: Interest portion
A2: 1 | B2: ='Missing a payment'!B4 -> 800000 | C2: =IF(B2<0.1,0,'Missing a payment'!$B$8) -> 11537.676 | D2: =IF(B2<=0.1,0,C2-'Missing a payment'!$B$7) -> 11477.676 | E2: =IF(B2<=0.1,0,D2-F2) -> 3477.6759 | F2: =('Missing a payment'!$B$5/12)*'Loan Amortisation'!B2 -> 8000
A3: 2 | B3: =IF(B2<=0.1,0,B2-E2) -> 796522.32 | C3: =IF(B3<0.1,0,'Missing a payment'!$B$8) -> 11537.676 | D3: =IF(B3<=0.1,0,C3-'Missing a payment'!$B$7) -> 11477.676 | E3: =IF(B3<=0.1,0,D3-F3) -> 3512.4526 | F3: =('Missing a payment'!$B$5/12)*'Loan Amortisation'!B3 -> 7965.2232
A4: 3 | B4: =IF(B3<=0.1,0,B3-E3) -> 793009.87 | C4: =IF(B4<0.1,0,'Missing a payment'!$B$8) -> 11537.676 | D4: =IF(B4<=0.1,0,C4-'Missing a payment'!$B$7) -> 11477.676 | E4: =IF(B4<=0.1,0,D4-F4) -> 3547.5772 | F4: =('Missing a payment'!$B$5/12)*'Loan Amortisation'!B4 -> 7930.0987
A5: 4 | B5: =IF(B4<=0.1,0,B4-E4) -> 789462.29 | C5: =IF(B5<0.1,0,'Missing a payment'!$B$8) -> 11537.676 | D5: =IF(B5<=0.1,0,C5-'Missing a payment'!$B$7) -> 11477.676 | E5: =IF(B5<=0.1,0,D5-F5) -> 3583.0529 | F5: =('Missing a payment'!$B$5/12)*'Loan Amortisation'!B5 -> 7894.6229
A6: 5 | B6: =IF(B5<=0.1,0,B5-E5) -> 785879.24 | C6: =IF(B6<0.1,0,'Missing a payment'!$B$8) -> 11537.676 | D6: =IF(B6<=0.1,0,C6-'Missing a payment'!$B$7) -> 11477.676 | E6: =IF(B6<=0.1,0,D6-F6) -> 3618.8835 | F6: =('Missing a payment'!$B$5/12)*'Loan Amortisation'!B6 -> 7858.7924
A7: 6 | B7: =IF(B6<=0.1,0,B6-E6) -> 782260.36 | C7: =IF(B7<0.1,0,'Missing a payment'!$B$8) -> 11537.676 | D7: =IF(B7<=0.1,0,C7-'Missing a payment'!$B$7) -> 11477.676 | E7: =IF(B7<=0.1,0,D7-F7) -> 3655.0723 | F7: =('Missing a payment'!$B$5/12)*'Loan Amortisation'!B7 -> 7822.6036
A8: 7 | B8: =IF(B7<=0.1,0,B7-E7) -> 778605.29 | C8: =IF(B8<0.1,0,'Missing a payment'!$B$8) -> 11537.676 | D8: =IF(B8<=0.1,0,C8-'Missing a payment'!$B$7) -> 11477.676 | E8: =IF(B8<=0.1,0,D8-F8) -> 3691.623 | F8: =('Missing a payment'!$B$5/12)*'Loan Amortisation'!B8 -> 7786.0529
A9: 8 | B9: =IF(B8<=0.1,0,B8-E8) -> 774913.66 | C9: =IF(B9<0.1,0,'Missing a payment'!$B$8) -> 11537.676 | D9: =IF(B9<=0.1,0,C9-'Missing a payment'!$B$7) -> 11477.676 | E9: =IF(B9<=0.1,0,D9-F9) -> 3728.5392 | F9: =('Missing a payment'!$B$5/12)*'Loan Amortisation'!B9 -> 7749.1366
A10: 9 | B10: =IF(B9<=0.1,0,B9-E9) -> 771185.12 | C10: =IF(B10<0.1,0,'Missing a payment'!$B$8) -> 11537.676 | D10: =IF(B10<=0.1,0,C10-'Missing a payment'!$B$7) -> 11477.676 | E10: =IF(B10<=0.1,0,D10-F10) -> 3765.8246 | F10: =('Missing a payment'!$B$5/12)*'Loan Amortisation'!B10 -> 7711.8512
A11: 10 | B11: =IF(B10<=0.1,0,B10-E10) -> 767419.3 | C11: =IF(B11<0.1,0,'Missing a payment'!$B$8) -> 11537.676 | D11: =IF(B11<=0.1,0,C11-'Missing a payment'!$B$7) -> 11477.676 | E11: =IF(B11<=0.1,0,D11-F11) -> 3803.4829 | F11: =('Missing a payment'!$B$5/12)*'Loan Amortisation'!B11 -> 7674.193
A12: 11 | B12: =IF(B11<=0.1,0,B11-E11) -> 763615.82 | C12: =IF(B12<0.1,0,'Missing a payment'!$B$8) -> 11537.676 | D12: =IF(B12<=0.1,0,C12-'Missing a payment'!$B$7) -> 11477.676 | E12: =IF(B12<=0.1,0,D12-F12) -> 3841.5177 | F12: =('Missing a payment'!$B$5/12)*'Loan Amortisation'!B12 -> 7636.1582
A13: 12 | B13: =IF(B12<=0.1,0,B12-E12) -> 759774.3 | C13: =IF(B13<0.1,0,'Missing a payment'!$B$8) -> 11537.676 | D13: =IF(B13<=0.1,0,C13-'Missing a payment'!$B$7) -> 11477.676 | E13: =IF(B13<=0.1,0,D13-F13) -> 3879.9329 | F13: =('Missing a payment'!$B$5/12)*'Loan Amortisation'!B13 -> 7597.743
A14: 13 | B14: =IF(B13<=0.1,0,B13-E13) -> 755894.37 | C14: =IF(B14<0.1,0,'Missing a payment'!$B$8) -> 11537.676 | D14: =IF(B14<=0.1,0,C14-'Missing a payment'!$B$7) -> 11477.676 | E14: =IF(B14<=0.1,0,D14-F14) -> 3918.7322 | F14: =('Missing a payment'!$B$5/12)*'Loan Amortisation'!B14 -> 7558.9437
... A721: 720 | B721: =IF(B720<=0.1,0,B720-E720) -> 0 | C721: =IF(B721<0.1,0,'Missing a payment'!$B$8) -> 0 | D721: =IF(B721<=0.1,0,C721-'Missing a payment'!$B$7) -> 0 | E721: =IF(B721<=0.1,0,D721-F721) -> 0 | F721: =('Missing a payment'!$B$5/12)*'Loan Amortisation'!B721 -> 0
